BEGIN:VCALENDAR
VERSION:2.0
PRODID:-//Talking Across Difference - ECPv6.15.14//NONSGML v1.0//EN
CALSCALE:GREGORIAN
METHOD:PUBLISH
X-ORIGINAL-URL:https://civildiscourse.rutgers.edu
X-WR-CALDESC:Events for Talking Across Difference
REFRESH-INTERVAL;VALUE=DURATION:PT1H
X-Robots-Tag:noindex
X-PUBLISHED-TTL:PT1H
BEGIN:VTIMEZONE
TZID:America/New_York
BEGIN:DAYLIGHT
TZOFFSETFROM:-0500
TZOFFSETTO:-0400
TZNAME:EDT
DTSTART:20250309T070000
END:DAYLIGHT
BEGIN:STANDARD
TZOFFSETFROM:-0400
TZOFFSETTO:-0500
TZNAME:EST
DTSTART:20251102T060000
END:STANDARD
BEGIN:DAYLIGHT
TZOFFSETFROM:-0500
TZOFFSETTO:-0400
TZNAME:EDT
DTSTART:20260308T070000
END:DAYLIGHT
BEGIN:STANDARD
TZOFFSETFROM:-0400
TZOFFSETTO:-0500
TZNAME:EST
DTSTART:20261101T060000
END:STANDARD
BEGIN:DAYLIGHT
TZOFFSETFROM:-0500
TZOFFSETTO:-0400
TZNAME:EDT
DTSTART:20270314T070000
END:DAYLIGHT
BEGIN:STANDARD
TZOFFSETFROM:-0400
TZOFFSETTO:-0500
TZNAME:EST
DTSTART:20271107T060000
END:STANDARD
END:VTIMEZONE
BEGIN:VEVENT
DTSTART;TZID=America/New_York:20260420T180000
DTEND;TZID=America/New_York:20260420T200000
DTSTAMP:20260423T014910
CREATED:20260411T065422Z
LAST-MODIFIED:20260411T065422Z
UID:10000029-1776708000-1776715200@civildiscourse.rutgers.edu
SUMMARY:Digital Democracy Workshop PT 2: Logical Fallacies in Digital Politics
DESCRIPTION:Join TAD for Part 2 of our Digital Democracy Workshop series! This interactive session explores how logical fallacies and persuasive tactics appear in digital political content\, from viral posts to political ads. Through real-world examples and small group discussions\, practice identifying common fallacies and analyzing how these tactics can shape online political discourse. \nSnacks will be provided! Register using the link below!
URL:https://civildiscourse.rutgers.edu/event/digital-democracy-workshop-pt-2-logical-fallacies-in-digital-politics/
LOCATION:Eagleton Institute of Politics
END:VEVENT
END:VCALENDAR