BEGIN:VCALENDAR
VERSION:2.0
PRODID:-//Talking Across Difference - ECPv6.15.14//NONSGML v1.0//EN
CALSCALE:GREGORIAN
METHOD:PUBLISH
X-ORIGINAL-URL:https://civildiscourse.rutgers.edu
X-WR-CALDESC:Events for Talking Across Difference
REFRESH-INTERVAL;VALUE=DURATION:PT1H
X-Robots-Tag:noindex
X-PUBLISHED-TTL:PT1H
BEGIN:VTIMEZONE
TZID:America/New_York
BEGIN:DAYLIGHT
TZOFFSETFROM:-0500
TZOFFSETTO:-0400
TZNAME:EDT
DTSTART:20250309T070000
END:DAYLIGHT
BEGIN:STANDARD
TZOFFSETFROM:-0400
TZOFFSETTO:-0500
TZNAME:EST
DTSTART:20251102T060000
END:STANDARD
BEGIN:DAYLIGHT
TZOFFSETFROM:-0500
TZOFFSETTO:-0400
TZNAME:EDT
DTSTART:20260308T070000
END:DAYLIGHT
BEGIN:STANDARD
TZOFFSETFROM:-0400
TZOFFSETTO:-0500
TZNAME:EST
DTSTART:20261101T060000
END:STANDARD
BEGIN:DAYLIGHT
TZOFFSETFROM:-0500
TZOFFSETTO:-0400
TZNAME:EDT
DTSTART:20270314T070000
END:DAYLIGHT
BEGIN:STANDARD
TZOFFSETFROM:-0400
TZOFFSETTO:-0500
TZNAME:EST
DTSTART:20271107T060000
END:STANDARD
END:VTIMEZONE
BEGIN:VEVENT
DTSTART;TZID=America/New_York:20260430T180000
DTEND;TZID=America/New_York:20260430T200000
DTSTAMP:20260423T043128
CREATED:20260411T070048Z
LAST-MODIFIED:20260411T070048Z
UID:10000031-1777572000-1777579200@civildiscourse.rutgers.edu
SUMMARY:Talking Across Movement
DESCRIPTION:Join us for a thought-provoking dinner exploring global immigration systems\, diving into real case studies from around the world. Examine how culture and policy intersect\, and what a more global approach to immigration could look like. Come ready to learn\, discuss\, and broaden your perspective! \nRegister using the link below!
URL:https://civildiscourse.rutgers.edu/event/talking-across-movement/
LOCATION:Eagleton Institute of Politics
END:VEVENT
END:VCALENDAR