BEGIN:VCALENDAR
VERSION:2.0
PRODID:-//Talking Across Difference - ECPv6.15.14//NONSGML v1.0//EN
CALSCALE:GREGORIAN
METHOD:PUBLISH
X-ORIGINAL-URL:https://civildiscourse.rutgers.edu
X-WR-CALDESC:Events for Talking Across Difference
REFRESH-INTERVAL;VALUE=DURATION:PT1H
X-Robots-Tag:noindex
X-PUBLISHED-TTL:PT1H
BEGIN:VTIMEZONE
TZID:America/New_York
BEGIN:DAYLIGHT
TZOFFSETFROM:-0500
TZOFFSETTO:-0400
TZNAME:EDT
DTSTART:20240310T070000
END:DAYLIGHT
BEGIN:STANDARD
TZOFFSETFROM:-0400
TZOFFSETTO:-0500
TZNAME:EST
DTSTART:20241103T060000
END:STANDARD
BEGIN:DAYLIGHT
TZOFFSETFROM:-0500
TZOFFSETTO:-0400
TZNAME:EDT
DTSTART:20250309T070000
END:DAYLIGHT
BEGIN:STANDARD
TZOFFSETFROM:-0400
TZOFFSETTO:-0500
TZNAME:EST
DTSTART:20251102T060000
END:STANDARD
BEGIN:DAYLIGHT
TZOFFSETFROM:-0500
TZOFFSETTO:-0400
TZNAME:EDT
DTSTART:20260308T070000
END:DAYLIGHT
BEGIN:STANDARD
TZOFFSETFROM:-0400
TZOFFSETTO:-0500
TZNAME:EST
DTSTART:20261101T060000
END:STANDARD
BEGIN:DAYLIGHT
TZOFFSETFROM:-0500
TZOFFSETTO:-0400
TZNAME:EDT
DTSTART:20270314T070000
END:DAYLIGHT
BEGIN:STANDARD
TZOFFSETFROM:-0400
TZOFFSETTO:-0500
TZNAME:EST
DTSTART:20271107T060000
END:STANDARD
END:VTIMEZONE
BEGIN:VTIMEZONE
TZID:America/Halifax
BEGIN:DAYLIGHT
TZOFFSETFROM:-0400
TZOFFSETTO:-0300
TZNAME:ADT
DTSTART:20230312T060000
END:DAYLIGHT
BEGIN:STANDARD
TZOFFSETFROM:-0300
TZOFFSETTO:-0400
TZNAME:AST
DTSTART:20231105T050000
END:STANDARD
BEGIN:DAYLIGHT
TZOFFSETFROM:-0400
TZOFFSETTO:-0300
TZNAME:ADT
DTSTART:20240310T060000
END:DAYLIGHT
BEGIN:STANDARD
TZOFFSETFROM:-0300
TZOFFSETTO:-0400
TZNAME:AST
DTSTART:20241103T050000
END:STANDARD
BEGIN:DAYLIGHT
TZOFFSETFROM:-0400
TZOFFSETTO:-0300
TZNAME:ADT
DTSTART:20250309T060000
END:DAYLIGHT
BEGIN:STANDARD
TZOFFSETFROM:-0300
TZOFFSETTO:-0400
TZNAME:AST
DTSTART:20251102T050000
END:STANDARD
BEGIN:DAYLIGHT
TZOFFSETFROM:-0400
TZOFFSETTO:-0300
TZNAME:ADT
DTSTART:20260308T060000
END:DAYLIGHT
BEGIN:STANDARD
TZOFFSETFROM:-0300
TZOFFSETTO:-0400
TZNAME:AST
DTSTART:20261101T050000
END:STANDARD
END:VTIMEZONE
BEGIN:VEVENT
DTSTART;TZID=America/New_York:20260204T120000
DTEND;TZID=America/New_York:20260204T140000
DTSTAMP:20260421T022831
CREATED:20260203T142450Z
LAST-MODIFIED:20260203T142450Z
UID:10000019-1770206400-1770213600@civildiscourse.rutgers.edu
SUMMARY:The Yard Forum
DESCRIPTION:The Yard Forum is a space where Rutgers students can share their perspectives and spark conversations across differences. The Talking Across Difference Student Leader cohort will offer discussion questions on diverse topics\, welcoming civil conversation and engagement. Drop by our table in the Douglass Student Center\, meet and connect with the Talking Across Differences Student Leaders\, and share your take in a space built for real and respectful conversation! \nThis is a recurring event! Future Dates and Locations TBA
URL:https://civildiscourse.rutgers.edu/event/the-yard-forum-4/
LOCATION:Douglass Student Center\, 100 George St\, New Brunswick\, NJ\, 08901\, United States
END:VEVENT
BEGIN:VEVENT
DTSTART;TZID=America/New_York:20260122T120000
DTEND;TZID=America/New_York:20260122T140000
DTSTAMP:20260421T022831
CREATED:20260123T230106Z
LAST-MODIFIED:20260203T142535Z
UID:10000018-1769083200-1769090400@civildiscourse.rutgers.edu
SUMMARY:The Yard Forum
DESCRIPTION:The Yard Forum is a space where Rutgers students can share their perspectives and spark conversations across differences. The Talking Across Difference Student Leader cohort will offer discussion questions on diverse topics\, welcoming civil conversation and engagement. Drop by our table at The Yard\, meet and connect with the Talking Across Differences Student Leaders\, and share your take in a space built for real and respectful conversation! \nThis is a recurring event! Future Dates TBD
URL:https://civildiscourse.rutgers.edu/event/the-yard-forum-3/
LOCATION:Private: The Yard at College Ave\, 100 George St\, New Brunswick\, New Jersey\, 08901\, United States
END:VEVENT
BEGIN:VEVENT
DTSTART;TZID=America/New_York:20251120T120000
DTEND;TZID=America/New_York:20251120T140000
DTSTAMP:20260421T022831
CREATED:20251119T043200Z
LAST-MODIFIED:20251119T043201Z
UID:10000017-1763640000-1763647200@civildiscourse.rutgers.edu
SUMMARY:The Yard Forum
DESCRIPTION:The Yard Forum is a space where Rutgers students can share their perspectives and spark conversations across differences. The Talking Across Difference Student Leader cohort will offer discussion questions on diverse topics\, welcoming civil conversation and engagement. Drop by our table at The Yard\, meet and connect with the Talking Across Differences Student Leaders\, and share your take in a space built for real and respectful conversation! \nThis is a recurring event! Future Dates TBD
URL:https://civildiscourse.rutgers.edu/event/the-yard-forum-2/
LOCATION:Private: The Yard at College Ave\, 100 George St\, New Brunswick\, New Jersey\, 08901\, United States
END:VEVENT
BEGIN:VEVENT
DTSTART;TZID=America/New_York:20251110T180000
DTEND;TZID=America/New_York:20251110T200000
DTSTAMP:20260421T022831
CREATED:20251022T124921Z
LAST-MODIFIED:20251105T021408Z
UID:10000011-1762797600-1762804800@civildiscourse.rutgers.edu
SUMMARY:Talking Across Difference Social
DESCRIPTION:Join us for an evening of community\, conversation\, and connection with the Talking Across Difference (TAD) Team. This event will provide an opportunity to meet the TAD Fall 2025 Cohort Student Leaders\, learn about the program’s mission\, and explore how TAD encourages constructive dialogue across different perspectives. \nSnacks will be provided! \n 
URL:https://civildiscourse.rutgers.edu/event/talking-across-difference-social/
LOCATION:Private: Drawing Room\, Eagleton Institute of Politics\, 191 Ryders Ln\, New Brunswick\, NJ\, United States
END:VEVENT
BEGIN:VEVENT
DTSTART;TZID=America/New_York:20251106T120000
DTEND;TZID=America/New_York:20251106T140000
DTSTAMP:20260421T022831
CREATED:20251022T125908Z
LAST-MODIFIED:20251112T045041Z
UID:10000014-1762430400-1762437600@civildiscourse.rutgers.edu
SUMMARY:The Yard Forum
DESCRIPTION:The Yard Forum is a space where Rutgers students can share their perspectives and spark conversations across differences. The Talking Across Difference Student Leader cohort will offer discussion questions on diverse topics\, welcoming civil conversation and engagement. Drop by our table at The Yard\, meet and connect with the Talking Across Differences Student Leaders\, and share your take in a space built for real and respectful conversation! \nThis is a recurring event! Future Dates TBD
URL:https://civildiscourse.rutgers.edu/event/the-yard-forum/
LOCATION:Private: The Yard at College Ave\, 100 George St\, New Brunswick\, New Jersey\, 08901\, United States
END:VEVENT
BEGIN:VEVENT
DTSTART;TZID=America/Halifax:20250416T180000
DTEND;TZID=America/Halifax:20250416T200000
DTSTAMP:20260421T022831
CREATED:20241217T184828Z
LAST-MODIFIED:20250313T212643Z
UID:10000007-1744826400-1744833600@civildiscourse.rutgers.edu
SUMMARY:Student Workshop: Talking Across Difference
DESCRIPTION:Join with other Rutgers students in a conversation about American politics today – what’s happening\, why does it matter\, and how can you get more involved? \nOpen to current Rutgers students. Participants must register in advance. Dinner will be served. \nThis Talking Across Difference conversation will be moderated by Rutgers faculty and is co-sponsored by the Rutgers Democracy Lab\, the Edward J. Bloustein School of Planning and Public Policy and the Rutgers New Brunswick Political Science Department.
URL:https://civildiscourse.rutgers.edu/event/student-workshop-talking-across-difference-2/
LOCATION:Alexander Library\, JetStream
END:VEVENT
BEGIN:VEVENT
DTSTART;TZID=America/Halifax:20241009T180000
DTEND;TZID=America/Halifax:20241009T200000
DTSTAMP:20260421T022831
CREATED:20240927T183933Z
LAST-MODIFIED:20241001T163230Z
UID:10000002-1728496800-1728504000@civildiscourse.rutgers.edu
SUMMARY:Student Workshop: Talking Across Difference
DESCRIPTION:No matter what your field of study is\, everyone has a stake in the political process. Although it can be challenging\, it’s important to explore contemporary issues from different perspectives and engage in dialogue with each other. Join other Rutgers students in a workshop led by Talking Across Difference faculty members – learn and practice the skills of dialogue across difference and gain the confidence to talk about politics. \nOpen to current Rutgers students but participants must register in advance. Dinner will be served. \nSPACE IS LIMITED; REGISTRATION REQUIRED
URL:https://civildiscourse.rutgers.edu/event/student-success-workshop-encouraging-dialogue-and-exploring-different-perspectives/
END:VEVENT
BEGIN:VEVENT
DTSTART;TZID=America/Halifax:20240925T100000
DTEND;TZID=America/Halifax:20240925T120000
DTSTAMP:20260421T022831
CREATED:20240904T192735Z
LAST-MODIFIED:20240904T192735Z
UID:10000001-1727258400-1727265600@civildiscourse.rutgers.edu
SUMMARY:Faculty Workshop: Encouraging dialogue and exploring different perspectives in classrooms of all disciplines
DESCRIPTION:
URL:https://civildiscourse.rutgers.edu/event/faculty-workshop-encouraging-dialogue-and-exploring-different-perspectives-in-classrooms-of-all-disciplines/
END:VEVENT
BEGIN:VEVENT
DTSTART;TZID=America/Halifax:20240815T120000
DTEND;TZID=America/Halifax:20240815T140000
DTSTAMP:20260421T022831
CREATED:20241003T144758Z
LAST-MODIFIED:20241003T144758Z
UID:10000003-1723723200-1723730400@civildiscourse.rutgers.edu
SUMMARY:Teaching Workshop: Encouraging Dialogue and Exploring Different Perspectives in Classrooms of All Disciplines
DESCRIPTION:
URL:https://civildiscourse.rutgers.edu/event/teaching-workshop-encouraging-dialogue-and-exploring-different-perspectives-in-classrooms-of-all-disciplines/
END:VEVENT
END:VCALENDAR